Workbook

Sheet Scoring
B1: HDFC POINTS SYSTEM as of 10/26/26
B3: Project Name: | E3: Points Available | F3: Points Scored
B4: =B10 -> Affordability (Maximum 45 Points) | E4: 45 | F4: =F10 -> 0
B5: =B20 -> Housing Type (Maximum 35 points) | E5: 35 | F5: =F20 -> 0
B6: =B82 -> Climate and Location Priorities (Maximum 20 Points) | E6: 20 | F6: =F82 -> 10
B7: Negative Points (Manually enter as a negative)
D8: Total: | E8: =SUM(E4:E6) -> 100 | F8: =SUM(F4:F7) -> 10
B10: Affordability (Maximum 45 Points) | E10: Section Total Points Scored: | F10: =MAX(0,IF(F12="(1)",45,IF(F12="(2)",45,IF(F12="(3)",45,0)))) -> 0
B12: Projects that meet any one of the following criteria shall receive 45 points:
B13: (1) | C13: Rural Housing: Projects located in Rural areas as defined in HSC § 50199.21 where the average affordability of Restricted Units is less than or equal to 60% AMI, with at least 10% of Units restricted at or below 40% AMI.
B15: (2) | C15: Special Needs and Supportive Housing Types: Projects where the average affordability of Restricted Units is less than or equal to 60% AMI, with at least 25% of Units restricted at or below 30% AMI for Special Needs Populations. Only eligible for Projects meeting the requirements of Special Needs or Supportive Housing types per Section 32040 (b).
B17: (3) | C17: All others: Projects where the average affordability of Restricted Units is less than or equal to 60% AMI, with at least 10% of Units restricted at or below 30% AMI and an additional 10% of Units restricted at or below 50%.
B20: Housing Type (Maximum 35 points) | E20: Section Total Points Scored: | F20: =IFERROR(VLOOKUP(F23,Scoring!J98:K118,2,FALSE),0) -> 0
B22: Please select one Housing Type, if applicable:
B24: New Construction Projects
B26: (1) | C26: Large Family Housing
C27: Consistent with requirements adopted by CTCAC for “Large family projects” pursuant to 4 CCR § 10325(g), to be considered Large Family housing, at least twenty-five percent (25%) of the Units shall be three-bedroom or larger Units and an additional twenty-five percent (25%) of the Units shall be two-bedroom or larger Units, in addition to meeting other requirements as further defined by CTCAC in 4 CCR § 10325(g)(1).
B29: (2) | C29: Senior Housing
C30: Consistent with requirements adopted by CTCAC for “Senior projects” pursuant to 4 CCR § 10325(g), to be considered Senior Housing, all Units shall be restricted to households eligible under applicable provisions of Civ. Code, §§ 51.3, 51.3.5, and 51.11 and the federal Fair Housing Act and shall be further subject to Fair Housing Laws with respect to Senior Housing. As applicable, Projects with Senior Units receiving project-based Section 8 rental subsidy, or other applicable federal rental subsidies that specifically prohibit a senior restriction, may use a senior preference for senior unit leasing, in compliance with 42 USC § 1437f, in addition to meeting other requirements as further defined by CTCAC in 4 CCR § 10325(g)(2).
C31: Senior Housing residents are defined as an individual 62 years of age or older, or 55 years of age or older in a senior housing development per Civ. Code, § 51.3(b)(4).
B33: (3) | C33: Farmworker Housing
C34: To qualify as a Farmworker Housing type, a Project must meet the following requirements:
C35: a. At least twenty-five percent (25%) of the Units are available to and occupied by Farmworker Households.
B37: (4) | C37: Special Needs Housing
C38: To qualify as Special Needs Housing, a Project must have the greater of 15 Restricted Units or 25% of the Restricted Units reserved for Special Needs Population(s). The 15 Low-Income Unit minimum shall not apply to a Project with committed HUD § 811 funding. The Project must provide a preliminary Supportive Service plan as described in Section 32100 and in CTCAC under 4 CCR § 10325(g)(3)(I) addressing the needs of the Special Needs Population at the time of application. Special Needs Housing applications shall also meet all requirements of 4 CCR § 10325(g)(3), except that HDFC-regulated Special Needs Housing Projects are exempt from the following requirements of 4 CCR §10325(g)(3):
C39: a. Requirement for any development with less than 75% of the Low-Income Units serving Special Needs Population(s), the non-Special Needs Units shall either: (i) meet the Large Family or Senior Housing requirements; or (ii) consist of at least 20% one-bedroom Units and at least 10% larger than one-bedroom Units.
C40: b. Average targeted income for the Special Needs Units of no more than 40% of AMI (4 CCR §10325(g)(3)(A)).
B42: (5) | C42: Supportive Housing
C43: To qualify as Supportive Housing, as that term is defined in HSC § 50675.14(c)(1), a Project must meet the following requirements:
C44: a. 40% of the Restricted Units are reserved for people experiencing Chronic Homelessness or youth Homelessness or exiting institutions, as defined also in Chapter 3, Section 33001.
C45: b. Must provide a preliminary Supportive Service plan as described in Section 32100 and in 4 CCR § 10325(g)(3)(I).
B47: (6) | C47: Tribal Housing
C48: To qualify as Tribal Housing, the Sponsor must be a Tribal Entity or the Project must be located on Tribal Land or within a tribe’s Indian Area as defined under 25 USC § 4103(11).
B50: (7) | C50: High Density Housing
C51: To qualify as High-Density Housing, a Project must meet HDFC’s required minimum Net Density (dwelling Units per acre) at completion, based on the Project’s location category, as defined below. This Housing Type will be capped after 25% of all funding awarded. The 4 Project location categories are defined as follows:
C52: Location Category | D52: Minimum Density Requirements
C53: Large City Downtown | D53: Minimum of 60 units/ acre for residential only projects, minimum of >3.0 FAR for mixed-use projects
C54: Urban Center | D54: Minimum of 40 units/ acre for residential only projects, minimum of >2.0 FAR for mixed-use projects
C55: All Other Areas | D55: Minimum of 25 units/ acre for residential only projects, minimum of >1.5 FAR for mixed-use projects
C56: Rural | D56: Minimum of 15 units/ acre for residential only projects, minimum of >1.0 FAR for mixed-use projects
...

Sheet Tiebreaker Calculation
B1: HDFC TIE BREAKER as of 10/26/26
D3: Total Benefit Numerator | E3: =C68 -> 40118146
E4: ÷
D5: Cost Adjusted Request Amount Denominator | E5: =H68 -> 56642500
D7: TIE BREAKER | E7: =IF(E5>0,E3/E5,0) -> 0.70826934
C9: Enter data in blue cells only
B10: Project Information + Tiebreaker Characteristics | C10: Selection
B11: Project Name | C11: =Scoring!C3
B12: County | C12: Alameda
B13: Housing Type | C13: Large Family
B14: Sponsor is a Tribal Entity | C14: FALSE
B15: Community-Based Developer | C15: FALSE
B17: Resource Area | C17: High
B18: Experiencing Neighborhood Change | C18: FALSE | D18: See CDLAC Regulations Section 5106(f)
B19: Located & Included in Community Revitalization Area | C19: TRUE | D19: See CDLAC Regulations Section 5106(f)
B21: Acq/Rehab w/ lower rents than CTCAC Rent Limits | C21: FALSE | D21: =IF(C21,"You must complete the Acq/ Rehab with Lower than CTCAC Rent Table in columns K:Q","Please skip the Acq/ Rehab with Lower than CTCAC Rent Table in columns K:Q") -> Please skip the Acq/ Rehab with Lower than CTCAC Rent Table in columns K:Q
B22: Prevailing Wage | C22: TRUE
B23: Project Labor Agreement or Similar | C23: FALSE | D23: See CDLAC Regulations Section 5106(f)(2)(B)
B25: Includes AHSC? | C25: TRUE
B26: Per-Unit MTCO2e Reduction | C26: 20 to less than 40 MTCO2e per unit. | D26: Per-Unit GHG Reduction is the total reduction in greenhouse gas emissions over the life of the Project, in metric tons of carbon dioxide equivalent (MTCO2e), as reported in the Total GGRF GHG Emissions Change output of the AHSC Affordable Housing Benefits Calculator Tool developed by the California Air Resources Board, divided by the total number of units in the Project
B28: Seismic/Environmental Mitigation Cost | C28: 200000 | D28: Acq/Rehab projects ONLY requiring seismic upgrades or on-site environmental remediation. Enter actual cost of upgrades or remediation.
B30: Project Financing | C30: Selection
B31: 9% or 4% LIHTC | C31: 0.09
B32: Aggregate Basis | C32: 30000000 | D32: Depreciable basis plus land basis (land and land-related costs) for 4% LIHTC projects.
B34: HDFC Resources Requested
B35: Tax Exempt Bonds | C35: 9000000 | D35: Amount of Tax Exempt Bonds requested from HDFC and CDLAC. $0 for 9% LIHTC Projects
B36: HDFC Funds | C36: 15000000 | D36: Excludes: Previously state awarded funds; MHP Supportive Services Grant; MHP Supportive Housing COSR
B37: MHP COSR | C37: 6500000 | D37: Total MHP COSR Request. Requests up to $6,000,000 will not affect tiebreaker. Any portion of MHP COSR in excess of $6,000,000 will be included in the tiebreaker denominator
B38: CTCAC Resources Projected
B39: 9% LIHTC (annual) | C39: 6000000
B40: State Tax Credit Request | C40: 5000000 | D40: Total State Tax Credit request
M41: Only complete this table if the project is an acq/rehab with rents that are lower than CTCAC rents.
C42: Enter unit totals at appropriate AMI levels. AMI levels may be adjusted using dropdown menus if necessary. | M42: Unit totals should be entered in the columns C:H, enter monthly per-unit rents in columns L:Q
C43: If some units at a given AMI tier have a rental subsidy and some do not, enter them on two separate rows. | M43: Acq/ Rehab Rents Lower than CTCAC - Average Rent Charged Over the Prev. 3 Yrs
B44: Affordability Mix | C44: Studio | D44: 1BR | E44: 2BR | F44: 3BR | G44: 4BR | H44: 5BR | I44: Total | J44: Project-Based Rental Assistance (or similar) | K44: Population | M44: AMI Tier | N44: Studio | O44: 1BR | P44: 2BR | Q44: 3BR | R44: 4BR | S44: 5BR
B45: 0.3 | C45: 5 | I45: =SUM(C45:H45) -> 5 | J45: FALSE | K45: Farmworker | M45: =B45 -> 0.3 | N45: 100 | O45: 200 | P45: 300
B46: 0.25 | D46: 26 | I46: =SUM(C46:H46) -> 26 | J46: TRUE | K46: Special Needs | M46: =B46 -> 0.25 | N46: 400 | O46: 500 | P46: 600
B47: 0.45 | E47: 7 | I47: =SUM(C47:H47) -> 7 | J47: FALSE | K47: Supportive Housing | M47: =B47 -> 0.45 | N47: 700 | O47: 800 | P47: 900
B48: 0.5 | F48: 8 | I48: =SUM(C48:H48) -> 8 | J48: FALSE | K48: Supportive Housing | M48: =B48 -> 0.5 | N48: 1000 | O48: 1000 | P48: 1000
B49: 0.6 | C49: 2 | D49: 21 | I49: =SUM(C49:H49) -> 23 | J49: FALSE | K49: None/ Other | M49: =B49 -> 0.6 | N49: 1000 | O49: 1000 | P49: 1000
...
